BEGIN:VCALENDAR
VERSION:2.0
PRODID:-//Berry Local Directory - ECPv6.8.3//NONSGML v1.0//EN
CALSCALE:GREGORIAN
METHOD:PUBLISH
X-WR-CALNAME:Berry Local Directory
X-ORIGINAL-URL:https://local.berry.org.au
X-WR-CALDESC:Events for Berry Local Directory
REFRESH-INTERVAL;VALUE=DURATION:PT1H
X-Robots-Tag:noindex
X-PUBLISHED-TTL:PT1H
BEGIN:VTIMEZONE
TZID:Australia/Sydney
BEGIN:STANDARD
TZOFFSETFROM:+1100
TZOFFSETTO:+1000
TZNAME:AEST
DTSTART:20260404T160000
END:STANDARD
BEGIN:DAYLIGHT
TZOFFSETFROM:+1000
TZOFFSETTO:+1100
TZNAME:AEDT
DTSTART:20261003T160000
END:DAYLIGHT
END:VTIMEZONE
BEGIN:VEVENT
DTSTART;TZID=Australia/Sydney:20260503T143000
DTEND;TZID=Australia/Sydney:20260503T170000
DTSTAMP:20260420T045253
CREATED:20260331T235752Z
LAST-MODIFIED:20260331T235752Z
UID:10000476-1777818600-1777827600@local.berry.org.au
SUMMARY:BONNEVILLIANS | Live Sundays
DESCRIPTION:🎶☀️ 𝐆𝐑𝐄𝐀𝐓 𝐒𝐎𝐔𝐓𝐇𝐄𝐑𝐍 𝐒𝐔𝐍𝐃𝐀𝐘𝐒 ☀️🎶\nGet ready to wind down your weekend the right way with Great Southern Sundays at The Southern!\nJoin us for an afternoon filled with live music\, cold drinks\, and the best vibes in town. Bring your friends\, bring your family\, Great Southern Sundays is for everyone – featuring incredible talent every weekend.\n———\n𝐃𝐀𝐓𝐄 🗓️ SUNDAY MAY 03\n𝐁𝐀𝐍𝐃 🎶 BONNEVILLIANS\n𝐓𝐈𝐌𝐄 ⏰ LIVE MUSIC FROM 2:30PM\n𝐅𝐑𝐄𝐄 𝐄𝐍𝐓𝐑𝐘 𝐄𝐕𝐄𝐑𝐘 𝐖𝐄𝐄𝐊!
URL:https://local.berry.org.au/event/bonnevillians-live-sundays-2/
LOCATION:Great Southern Hotel Berry\, 95 Queen St\, Berry\, NSW\, 2535
ORGANIZER;CN="Great Southern Hotel Berry":MAILTO:info@southernhotelberry.com.au
END:VEVENT
END:VCALENDAR