BEGIN:VCALENDAR
VERSION:2.0
PRODID:-//Berry Local Directory - ECPv6.8.3//NONSGML v1.0//EN
CALSCALE:GREGORIAN
METHOD:PUBLISH
X-WR-CALNAME:Berry Local Directory
X-ORIGINAL-URL:https://local.berry.org.au
X-WR-CALDESC:Events for Berry Local Directory
REFRESH-INTERVAL;VALUE=DURATION:PT1H
X-Robots-Tag:noindex
X-PUBLISHED-TTL:PT1H
BEGIN:VTIMEZONE

END:VTIMEZONE
BEGIN:VEVENT
DTSTART;TZID=Australia/Sydney:20240606T183000
DTEND;TZID=Australia/Sydney:20240606T213000
DTSTAMP:20260422T073317
CREATED:20240604T013115Z
LAST-MODIFIED:20240604T013115Z
UID:10000039-1717698600-1717709400@local.berry.org.au
SUMMARY:FAULTY TOWERS DINING EXPERIENCE
DESCRIPTION:The Berry Hotel is hosting a dining experience like no other on Thursday June 6th – an interactive dinner/theatre production of Faulty Towers! \nThe event which includes a 3-course meal and 2-hour interactive show is $85pp. \nDoors open at 6.30pm\, show starts at 7pm. Bookings essential.
URL:https://local.berry.org.au/event/faulty-towers-dining-experience/
LOCATION:The Berry Hotel\, 120 Queen Street\, Berry\, NSW\, 2535\, Australia
ATTACH;FMTTYPE=image/jpeg:https://local.berry.org.au/wp-content/uploads/2024/06/BH_Faulty-Flowers-2024_POS.jpg
ORGANIZER;CN="The Berry Hotel":MAILTO:berryhotel@ferosgroup.com.au
END:VEVENT
BEGIN:VEVENT
DTSTART;TZID=Australia/Sydney:20240606T140000
DTEND;TZID=Australia/Sydney:20240606T170000
DTSTAMP:20260422T073317
CREATED:20240604T010823Z
LAST-MODIFIED:20240604T010823Z
UID:10000004-1717682400-1717693200@local.berry.org.au
SUMMARY:Berry Farmers’ Market
DESCRIPTION:The Berry Farmers’ Market is held EVERY Thursday and has now changed location to the Berry Bowling Club on Queen St  2-5pm.  Come and shop directly with local producers. You’ll find a great range of fresh fruit and veggies\, meat and seafood\, dairy\, baked goods and ready made meals\, beverages and more.
URL:https://local.berry.org.au/event/berry-farmers-market/2024-06-06/
LOCATION:Berry Bowling Club\, 140 Queen Street\, Berry\, NSW\, 2535\, Australia
ATTACH;FMTTYPE=image/jpeg:https://local.berry.org.au/wp-content/uploads/2024/06/berry-farmers-market.jpg
ORGANIZER;CN="Berry Farmers Market":MAILTO:berryfarmersmarket@gmail.com
END:VEVENT
BEGIN:VEVENT
DTSTART;VALUE=DATE:20240423
DTEND;VALUE=DATE:20240424
DTSTAMP:20260422T073317
CREATED:20240423T044106Z
LAST-MODIFIED:20240513T064221Z
UID:10000001-1713830400-1713916799@local.berry.org.au
SUMMARY:Test Event
DESCRIPTION:Test content goes here\, it’s all the descriptive stuff. Add in a short explanation of the event to show on the calendar so that people can quickly understand your event.
URL:https://local.berry.org.au/event/test-event/
LOCATION:NSW
ATTACH;FMTTYPE=image/jpeg:https://local.berry.org.au/wp-content/uploads/2018/04/rural-accommodation-platypus-bend-berry-nsw.jpg
END:VEVENT
BEGIN:VEVENT
DTSTART;TZID=Australia/Sydney:20260422T073317
DTEND;TZID=Australia/Sydney:20260109T220000
DTSTAMP:20260422T073317
CREATED:20251117T230252Z
LAST-MODIFIED:20251117T230252Z
UID:10000389-0-1767996000@local.berry.org.au
SUMMARY:DIRTY GROOVES (SOLO) | Friday Knock Off Sessions
DESCRIPTION:🍻☀️ Great Southern Knock Off Sessions ☀️🍻\nRinse your week off with epic live music every Friday at The Southern!\nStart your weekend right with live music\, cold drinks\, and the best vibes in town. Bring your friends\, bring your family\, Great Southern Sundays is for everyone – featuring incredible talent every Friday!\n———\n𝐃𝐀𝐓𝐄 🗓️ FRIDAY JAN 09\n𝐁𝐀𝐍𝐃 🎶 DIRTY GROOVES (SOLO)\n𝐓𝐈𝐌𝐄 ⏰ LIVE MUSIC FROM 8PM\n𝐅𝐑𝐄𝐄 𝐄𝐍𝐓𝐑𝐘 𝐄𝐕𝐄𝐑𝐘 𝐖𝐄𝐄𝐊!
URL:https://local.berry.org.au/event/dirty-grooves-solo-friday-knock-off-sessions/
LOCATION:Great Southern Hotel Berry\, 95 Queen St\, Berry\, NSW\, 2535
ATTACH;FMTTYPE=image/jpeg:https://local.berry.org.au/wp-content/uploads/2025/11/584537805_1404395725029995_6723565049115956263_n-3.jpg
ORGANIZER;CN="Great Southern Hotel Berry":MAILTO:info@southernhotelberry.com.au
END:VEVENT
END:VCALENDAR