BEGIN:VCALENDAR
VERSION:2.0
PRODID:-//Berry Local Directory - ECPv6.8.3//NONSGML v1.0//EN
CALSCALE:GREGORIAN
METHOD:PUBLISH
X-WR-CALNAME:Berry Local Directory
X-ORIGINAL-URL:https://local.berry.org.au
X-WR-CALDESC:Events for Berry Local Directory
REFRESH-INTERVAL;VALUE=DURATION:PT1H
X-Robots-Tag:noindex
X-PUBLISHED-TTL:PT1H
BEGIN:VTIMEZONE
TZID:Australia/Sydney
BEGIN:STANDARD
TZOFFSETFROM:+1100
TZOFFSETTO:+1000
TZNAME:AEST
DTSTART:20250405T160000
END:STANDARD
BEGIN:DAYLIGHT
TZOFFSETFROM:+1000
TZOFFSETTO:+1100
TZNAME:AEDT
DTSTART:20251004T160000
END:DAYLIGHT
BEGIN:STANDARD
TZOFFSETFROM:+1100
TZOFFSETTO:+1000
TZNAME:AEST
DTSTART:20260404T160000
END:STANDARD
BEGIN:DAYLIGHT
TZOFFSETFROM:+1000
TZOFFSETTO:+1100
TZNAME:AEDT
DTSTART:20261003T160000
END:DAYLIGHT
END:VTIMEZONE
BEGIN:VEVENT
DTSTART;TZID=Australia/Sydney:20260202T143000
DTEND;TZID=Australia/Sydney:20260202T170000
DTSTAMP:20260420T162758
CREATED:20260202T014157Z
LAST-MODIFIED:20260202T014157Z
UID:10000438-1770042600-1770051600@local.berry.org.au
SUMMARY:BONNEVILLIANS | Great Southern Sundays
DESCRIPTION:🎶☀️ 𝐆𝐑𝐄𝐀𝐓 𝐒𝐎𝐔𝐓𝐇𝐄𝐑𝐍 𝐒𝐔𝐍𝐃𝐀𝐘𝐒 ☀️🎶\nGet ready to wind down your weekend the right way with Great Southern Sundays at The Southern!\nJoin us for an afternoon filled with live music\, cold drinks\, and the best vibes in town. Bring your friends\, bring your family\, Great Southern Sundays is for everyone – featuring incredible talent every weekend.\n———\n𝐃𝐀𝐓𝐄 🗓️ SUNDAY MAR 01\n𝐁𝐀𝐍𝐃 🎶 BONNEVILLIANS\n𝐓𝐈𝐌𝐄 ⏰ LIVE MUSIC FROM 2:30PM\n𝐅𝐑𝐄𝐄 𝐄𝐍𝐓𝐑𝐘 𝐄𝐕𝐄𝐑𝐘 𝐖𝐄𝐄𝐊!
URL:https://local.berry.org.au/event/bonnevillians-great-southern-sundays-2/
LOCATION:Great Southern Hotel Berry\, 95 Queen St\, Berry\, NSW\, 2535
ATTACH;FMTTYPE=image/jpeg:https://local.berry.org.au/wp-content/uploads/2026/02/620056880_1464183575717876_4442847902136767821_n-1.jpg
END:VEVENT
BEGIN:VEVENT
DTSTART;TZID=Australia/Sydney:20260202T143000
DTEND;TZID=Australia/Sydney:20260202T170000
DTSTAMP:20260420T162758
CREATED:20260202T013757Z
LAST-MODIFIED:20260202T013757Z
UID:10000437-1770042600-1770051600@local.berry.org.au
SUMMARY:POLLY HAZELTON DUO | Great Southern Sundays
DESCRIPTION:🎶☀️ 𝐆𝐑𝐄𝐀𝐓 𝐒𝐎𝐔𝐓𝐇𝐄𝐑𝐍 𝐒𝐔𝐍𝐃𝐀𝐘𝐒 ☀️🎶\nGet ready to wind down your weekend the right way with Great Southern Sundays at The Southern!\nJoin us for an afternoon filled with live music\, cold drinks\, and the best vibes in town. Bring your friends\, bring your family\, Great Southern Sundays is for everyone – featuring incredible talent every weekend.\n———\n𝐃𝐀𝐓𝐄 🗓️ SUNDAY FEB 22\n𝐁𝐀𝐍𝐃 🎶 POLLY HAZELTON DUO\n𝐓𝐈𝐌𝐄 ⏰ LIVE MUSIC FROM 2:30PM\n𝐅𝐑𝐄𝐄 𝐄𝐍𝐓𝐑𝐘 𝐄𝐕𝐄𝐑𝐘 𝐖𝐄𝐄𝐊!
URL:https://local.berry.org.au/event/polly-hazelton-duo-great-southern-sundays/
LOCATION:Great Southern Hotel Berry\, 95 Queen St\, Berry\, NSW\, 2535
ATTACH;FMTTYPE=image/jpeg:https://local.berry.org.au/wp-content/uploads/2026/02/620056880_1464183575717876_4442847902136767821_n.jpg
END:VEVENT
BEGIN:VEVENT
DTSTART;TZID=Australia/Sydney:20260201T200000
DTEND;TZID=Australia/Sydney:20260201T220000
DTSTAMP:20260420T162758
CREATED:20251117T231549Z
LAST-MODIFIED:20251117T231917Z
UID:10000392-1769976000-1769983200@local.berry.org.au
SUMMARY:BONNEVILLIANS | Great Southern Sundays
DESCRIPTION:🎶☀️ 𝐆𝐑𝐄𝐀𝐓 𝐒𝐎𝐔𝐓𝐇𝐄𝐑𝐍 𝐒𝐔𝐍𝐃𝐀𝐘𝐒 ☀️🎶\nGet ready to wind down your weekend the right way with Great Southern Sundays at The Southern!\nJoin us for an afternoon filled with live music\, cold drinks\, and the best vibes in town. Bring your friends\, bring your family\, Great Southern Sundays is for everyone – featuring incredible talent every weekend.\n———\n𝐃𝐀𝐓𝐄 🗓️ SUNDAY FEB 01\n𝐁𝐀𝐍𝐃 🎶 BONNEVILLIANS\n𝐓𝐈𝐌𝐄 ⏰ LIVE MUSIC FROM 2:30PM\n𝐅𝐑𝐄𝐄 𝐄𝐍𝐓𝐑𝐘 𝐄𝐕𝐄𝐑𝐘 𝐖𝐄𝐄𝐊!
URL:https://local.berry.org.au/event/bonnevillians-friday-knock-off-sessions/
LOCATION:Great Southern Hotel Berry\, 95 Queen St\, Berry\, NSW\, 2535
ATTACH;FMTTYPE=image/jpeg:https://local.berry.org.au/wp-content/uploads/2025/11/584537805_1404395725029995_6723565049115956263_n-6.jpg
ORGANIZER;CN="Great Southern Hotel Berry":MAILTO:info@southernhotelberry.com.au
END:VEVENT
BEGIN:VEVENT
DTSTART;TZID=Australia/Sydney:20260201T120000
DTEND;TZID=Australia/Sydney:20260201T150000
DTSTAMP:20260420T162758
CREATED:20260104T032954Z
LAST-MODIFIED:20260104T032954Z
UID:10000433-1769947200-1769958000@local.berry.org.au
SUMMARY:Mark Dabin at The Rutledge - Sunday Sessions
DESCRIPTION:Sunday 1 February 2026\n12:00 pm  3:00 pm\nMark Dabin performs live
URL:https://local.berry.org.au/event/mark-dabin-at-the-rutledge-sunday-sessions/
LOCATION:The Rutledge Bar & Eats\, 71 Queen Street\, Berry
ATTACH;FMTTYPE=image/png:https://local.berry.org.au/wp-content/uploads/2026/01/13.png
ORGANIZER;CN="The Rutledge Bar &amp%3B Eats":MAILTO:contact@therutledge.com.au
END:VEVENT
BEGIN:VEVENT
DTSTART;TZID=Australia/Sydney:20260131T190000
DTEND;TZID=Australia/Sydney:20260131T230000
DTSTAMP:20260420T162758
CREATED:20251208T014109Z
LAST-MODIFIED:20251208T014109Z
UID:10000412-1769886000-1769900400@local.berry.org.au
SUMMARY:THE VINYL DJS | DJs Every Sat
DESCRIPTION:🪩 Welcome to Spin City Saturdays 🪩\nGet ready to slide onto the dance floor every Saturday night with the best local DJs slinging grooves until late. Whether you’re vibing to funky vinyl spins or high-energy house beats\, our DJs will keep the dance floor alive from 7pm ‘til late. It’s the perfect way to kick off your weekend – good tunes\, cold drinks\, and plenty of great company! 🍻\n🗓️ EVERY SATURDAY\n🎶 DJs from 8PM\n⚡️ FREE ENTRY\nBring your crew\, we’ll see you on the dance floor!
URL:https://local.berry.org.au/event/the-vinyl-djs-djs-every-sat-3/
LOCATION:Great Southern Hotel Berry\, 95 Queen St\, Berry\, NSW\, 2535
ATTACH;FMTTYPE=image/jpeg:https://local.berry.org.au/wp-content/uploads/2025/12/596809200_1422183459917888_3531522437840938169_n-6.jpg
ORGANIZER;CN="Great Southern Hotel Berry":MAILTO:info@southernhotelberry.com.au
END:VEVENT
BEGIN:VEVENT
DTSTART;TZID=Australia/Sydney:20260131T180000
DTEND;TZID=Australia/Sydney:20260131T210000
DTSTAMP:20260420T162758
CREATED:20260104T032850Z
LAST-MODIFIED:20260104T032850Z
UID:10000432-1769882400-1769893200@local.berry.org.au
SUMMARY:Mark Newton at The Rutledge
DESCRIPTION:Saturday 31 January 2026\n6:00 pm  9:00 pm\nMark Newton performs live
URL:https://local.berry.org.au/event/mark-newton-at-the-rutledge-2/
LOCATION:The Rutledge Bar & Eats\, 71 Queen Street\, Berry
ATTACH;FMTTYPE=image/png:https://local.berry.org.au/wp-content/uploads/2026/01/12.png
ORGANIZER;CN="The Rutledge Bar &amp%3B Eats":MAILTO:contact@therutledge.com.au
END:VEVENT
BEGIN:VEVENT
DTSTART;TZID=Australia/Sydney:20260130T200000
DTEND;TZID=Australia/Sydney:20260130T220000
DTSTAMP:20260420T162758
CREATED:20251117T231420Z
LAST-MODIFIED:20251117T231420Z
UID:10000391-1769803200-1769810400@local.berry.org.au
SUMMARY:TYLER HAUPTBERGER | Friday Knock Off Sessions
DESCRIPTION:🍻☀️ Great Southern Knock Off Sessions ☀️🍻\nRinse your week off with epic live music every Friday at The Southern!\nStart your weekend right with live music\, cold drinks\, and the best vibes in town. Bring your friends\, bring your family\, Great Southern Sundays is for everyone – featuring incredible talent every Friday!\n———\n𝐃𝐀𝐓𝐄 🗓️ FRIDAY JAN 30\n𝐁𝐀𝐍𝐃 🎶 TYLER HAUPTBERGER\n𝐓𝐈𝐌𝐄 ⏰ LIVE MUSIC FROM 8PM\n𝐅𝐑𝐄𝐄 𝐄𝐍𝐓𝐑𝐘 𝐄𝐕𝐄𝐑𝐘 𝐖𝐄𝐄𝐊!
URL:https://local.berry.org.au/event/tyler-hauptberger-friday-knock-off-sessions/
LOCATION:Great Southern Hotel Berry\, 95 Queen St\, Berry\, NSW\, 2535
ATTACH;FMTTYPE=image/jpeg:https://local.berry.org.au/wp-content/uploads/2025/11/584537805_1404395725029995_6723565049115956263_n-5.jpg
ORGANIZER;CN="Great Southern Hotel Berry":MAILTO:info@southernhotelberry.com.au
END:VEVENT
BEGIN:VEVENT
DTSTART;TZID=Australia/Sydney:20260130T180000
DTEND;TZID=Australia/Sydney:20260130T210000
DTSTAMP:20260420T162758
CREATED:20260104T032743Z
LAST-MODIFIED:20260104T032743Z
UID:10000431-1769796000-1769806800@local.berry.org.au
SUMMARY:Jacob Barnes at The Rutledge
DESCRIPTION:Friday 30 January 2026\n6:00 pm  9:00 pm\nJacob Barnes performs live
URL:https://local.berry.org.au/event/jacob-barnes-at-the-rutledge/
LOCATION:The Rutledge Bar & Eats\, 71 Queen Street\, Berry
ATTACH;FMTTYPE=image/png:https://local.berry.org.au/wp-content/uploads/2026/01/11-min.png
ORGANIZER;CN="The Rutledge Bar &amp%3B Eats":MAILTO:contact@therutledge.com.au
END:VEVENT
BEGIN:VEVENT
DTSTART;VALUE=DATE:20260130
DTEND;VALUE=DATE:20260201
DTSTAMP:20260420T162758
CREATED:20251015T095350Z
LAST-MODIFIED:20251015T100100Z
UID:10000378-1769731200-1769903999@local.berry.org.au
SUMMARY:The 138th Berry Show\, 2026
DESCRIPTION:The Berry Show is back for its 138th year on Friday 30 & Saturday 31 January 2026. Two big days of country traditions\, arena action\, livestock\, woodchop\, pavilions\, food\, wine and plenty of family fun. \nJoin us in the heart of Berry to celebrate community\, culture and country life. From watching the competitors in the main arena to sampling local produce\, exploring the exhibits\, and soaking up the festive atmosphere\, the Show is a summer highlight not to be missed. \nHead to our website at www.berryshow.org.au for all the details and follow our social media accounts for regular updates.
URL:https://local.berry.org.au/event/the-138th-berry-show-2026/
LOCATION:Berry Showground\, Cnr Alexandra and\, Victoria St\, Berry\, NSW\, 2535\, Australia
ATTACH;FMTTYPE=image/png:https://local.berry.org.au/wp-content/uploads/2025/10/Berry-Show.png
END:VEVENT
BEGIN:VEVENT
DTSTART;TZID=Australia/Sydney:20260129T190000
DTEND;TZID=Australia/Sydney:20260129T220000
DTSTAMP:20260420T162758
CREATED:20260104T031854Z
LAST-MODIFIED:20260104T032633Z
UID:10000430-1769713200-1769724000@local.berry.org.au
SUMMARY:Merge Dating at The Rutledge
DESCRIPTION:Join us for another Merge Dating night at The Rutledge\,  this time for ages 45 and over. \nHappening Friday 29th January\, it’s the perfect chance to meet new people\, share a drink\, and maybe find a spark. \nBookings essential – https://mergedating.com.au/product/berry-singles-event-rutledge-bar-ages-45-over-thursday-29th-january/ or contact Merge Dating directly to secure your spot.
URL:https://local.berry.org.au/event/merge-dating-at-the-rutledge/
LOCATION:The Rutledge Bar & Eats\, 71 Queen Street\, Berry
ATTACH;FMTTYPE=image/png:https://local.berry.org.au/wp-content/uploads/2026/01/10-min.png
ORGANIZER;CN="The Rutledge Bar &amp%3B Eats":MAILTO:contact@therutledge.com.au
END:VEVENT
BEGIN:VEVENT
DTSTART;TZID=Australia/Sydney:20260125T120000
DTEND;TZID=Australia/Sydney:20260125T150000
DTSTAMP:20260420T162758
CREATED:20260104T031638Z
LAST-MODIFIED:20260104T031641Z
UID:10000429-1769342400-1769353200@local.berry.org.au
SUMMARY:Three Hours South at The Rutledge - Sunday Sessions
DESCRIPTION:Sunday 25 January 2026\n12:00 pm  3:00 pm\nThree Hours South perform live
URL:https://local.berry.org.au/event/three-hours-south-at-the-rutledge-sunday-sessions/
LOCATION:The Rutledge Bar & Eats\, 71 Queen Street\, Berry
ATTACH;FMTTYPE=image/png:https://local.berry.org.au/wp-content/uploads/2026/01/9-1.png
ORGANIZER;CN="The Rutledge Bar &amp%3B Eats":MAILTO:contact@therutledge.com.au
END:VEVENT
BEGIN:VEVENT
DTSTART;TZID=Australia/Sydney:20260125T100000
DTEND;TZID=Australia/Sydney:20260125T150000
DTSTAMP:20260420T162758
CREATED:20240624T004718Z
LAST-MODIFIED:20240624T005454Z
UID:10000061-1769335200-1769353200@local.berry.org.au
SUMMARY:Berry Village Market
DESCRIPTION:Berry Village Market every fourth Sunday of the month 10am to 3pm.\nSet in the grounds of Berry Bowling Club. \nGreat news! Coopers organic produce and now Gung’s award winning Thai joining us at Berry Village market. \nWhat you will find… \n\nOver 80 boutique specialty stalls\nThere will also be a splash of retro and collectables and vinyls.\nSomething for your fur babies\, a must. Please bring them along\nHealth products & advice.\nPlants\, fresh flowers\, organic produce\, bagels\, croissants \,olives\, gourmet organic oils\, pizzas for home\, homemade jams\, honey & mead\, BBQ essentials.\nGin\, wine & salami tastings.\nCome down for lunch we have Ola\, Chola\, South American food truck\, amazing avo & feta bruschetta\, and gourmet toasties\, Turkish Gozleme\, great coffee\, freshly made real lemonade and decedent donuts.\nBakers Chemistry with their range of gluten free breads and baked goods\, charcoal breads and pumpkin\, Blueberry muffin.\nLuv U More Pastries & Breads\, bagels\, focaccia\, croissants.\nLive music on the green\, with indoor and outdoor seating. Bring a picnic blanket and enjoy the market atmosphere.\nFull club facilities with ATM machine.\nAnd awesome stallholders too..!\nDog friendly.\nDisabled parking area
URL:https://local.berry.org.au/event/berry-village-market-2/2026-01-25/
LOCATION:Berry Bowling Club\, 140 Queen Street\, Berry\, NSW\, 2535\, Australia
ATTACH;FMTTYPE=image/jpeg:https://local.berry.org.au/wp-content/uploads/2024/06/439231648_827481819404412_8681540544796611829_n.jpg
ORGANIZER;CN="Berry Village Market":MAILTO:kerrie@hivizmarkets.com.au
END:VEVENT
BEGIN:VEVENT
DTSTART;TZID=Australia/Sydney:20260124T190000
DTEND;TZID=Australia/Sydney:20260124T230000
DTSTAMP:20260420T162758
CREATED:20251208T013900Z
LAST-MODIFIED:20251208T013900Z
UID:10000411-1769281200-1769295600@local.berry.org.au
SUMMARY:THE VINYL DJS | DJs Every Sat
DESCRIPTION:🪩 Welcome to Spin City Saturdays 🪩\nGet ready to slide onto the dance floor every Saturday night with the best local DJs slinging grooves until late. Whether you’re vibing to funky vinyl spins or high-energy house beats\, our DJs will keep the dance floor alive from 7pm ‘til late. It’s the perfect way to kick off your weekend – good tunes\, cold drinks\, and plenty of great company! 🍻\n🗓️ EVERY SATURDAY\n🎶 DJs from 7PM\n⚡️ FREE ENTRY\nBring your crew\, we’ll see you on the dance floor!
URL:https://local.berry.org.au/event/the-vinyl-djs-djs-every-sat-2/
LOCATION:Great Southern Hotel Berry\, 95 Queen St\, Berry\, NSW\, 2535
ATTACH;FMTTYPE=image/jpeg:https://local.berry.org.au/wp-content/uploads/2025/12/596809200_1422183459917888_3531522437840938169_n-5.jpg
ORGANIZER;CN="Great Southern Hotel Berry":MAILTO:info@southernhotelberry.com.au
END:VEVENT
BEGIN:VEVENT
DTSTART;TZID=Australia/Sydney:20260124T180000
DTEND;TZID=Australia/Sydney:20260124T210000
DTSTAMP:20260420T162758
CREATED:20260104T031539Z
LAST-MODIFIED:20260104T031539Z
UID:10000428-1769277600-1769288400@local.berry.org.au
SUMMARY:Matt Dundas at The Rutledge
DESCRIPTION:Saturday 24 January 2026\n6:00 pm  9:00 pm\nMatt Dundas performs live
URL:https://local.berry.org.au/event/matt-dundas-at-the-rutledge-2/
LOCATION:The Rutledge Bar & Eats\, 71 Queen Street\, Berry
ATTACH;FMTTYPE=image/png:https://local.berry.org.au/wp-content/uploads/2026/01/8.png
ORGANIZER;CN="The Rutledge Bar &amp%3B Eats":MAILTO:contact@therutledge.com.au
END:VEVENT
BEGIN:VEVENT
DTSTART;TZID=Australia/Sydney:20260124T120000
DTEND;TZID=Australia/Sydney:20260124T230000
DTSTAMP:20260420T162758
CREATED:20260120T223205Z
LAST-MODIFIED:20260120T223205Z
UID:10000436-1769256000-1769295600@local.berry.org.au
SUMMARY:Hottest 100 Listening Party | GSHB
DESCRIPTION:Hottest 100 Listening Party 🔥 SAT | LONG WEEKEND\nSummer isn’t summer without the Hottest 100\, and there’s no better place to take it in than your local.\nJoin us for Australia’s favourite countdown playing all arvo\, cold beers flowing\, and our $25 snitty + schooey deal ready to go. Settle in\, claim your spot\, and relive the year that was in music the proper way.\nWhen the countdown wraps up\, we’re keeping things moving with a Hottest 100 after party from 7pm\, featuring the Vinyl DJs taking us through ‘til late.\n📅 SAT 24TH JAN\n🎶 FROM 12PM\n🍽️ SHNITTY & SCHOOEY | $25\n🎧 AFTER PARTY FROM | 7PM See less
URL:https://local.berry.org.au/event/hottest-100-listening-party-gshb/
LOCATION:Great Southern Hotel Berry\, 95 Queen St\, Berry\, NSW\, 2535
ATTACH;FMTTYPE=image/jpeg:https://local.berry.org.au/wp-content/uploads/2026/01/615230629_1450858247050409_2589935520062091550_n.jpg
ORGANIZER;CN="Great Southern Hotel Berry":MAILTO:info@southernhotelberry.com.au
END:VEVENT
BEGIN:VEVENT
DTSTART;TZID=Australia/Sydney:20260123T200000
DTEND;TZID=Australia/Sydney:20260123T220000
DTSTAMP:20260420T162758
CREATED:20251117T231218Z
LAST-MODIFIED:20251117T231218Z
UID:10000390-1769198400-1769205600@local.berry.org.au
SUMMARY:DIRTY GROOVES (SOLO) | Friday Knock Off Sessions
DESCRIPTION:🍻☀️ Great Southern Knock Off Sessions ☀️🍻\nRinse your week off with epic live music every Friday at The Southern!\nStart your weekend right with live music\, cold drinks\, and the best vibes in town. Bring your friends\, bring your family\, Great Southern Sundays is for everyone – featuring incredible talent every Friday!\n———\n𝐃𝐀𝐓𝐄 🗓️ FRIDAY JAN 09\n𝐁𝐀𝐍𝐃 🎶 DIRTY GROOVES (SOLO)\n𝐓𝐈𝐌𝐄 ⏰ LIVE MUSIC FROM 8PM\n𝐅𝐑𝐄𝐄 𝐄𝐍𝐓𝐑𝐘 𝐄𝐕𝐄𝐑𝐘 𝐖𝐄𝐄𝐊!
URL:https://local.berry.org.au/event/dirty-grooves-solo-friday-knock-off-sessions-2/
LOCATION:Great Southern Hotel Berry\, 95 Queen St\, Berry\, NSW\, 2535
ATTACH;FMTTYPE=image/jpeg:https://local.berry.org.au/wp-content/uploads/2025/11/584537805_1404395725029995_6723565049115956263_n-4.jpg
ORGANIZER;CN="Great Southern Hotel Berry":MAILTO:info@southernhotelberry.com.au
END:VEVENT
BEGIN:VEVENT
DTSTART;TZID=Australia/Sydney:20260123T180000
DTEND;TZID=Australia/Sydney:20260123T210000
DTSTAMP:20260420T162758
CREATED:20260104T031438Z
LAST-MODIFIED:20260104T032548Z
UID:10000427-1769191200-1769202000@local.berry.org.au
SUMMARY:Tyler Hauptberger at The Rutledge
DESCRIPTION:Friday 23 January 2026\n6:00 pm  9:00 pm\nTyler Hauptberger  performs live
URL:https://local.berry.org.au/event/tyler-hauptberger-at-the-rutledge-2/
LOCATION:The Rutledge Bar & Eats\, 71 Queen Street\, Berry
ATTACH;FMTTYPE=image/png:https://local.berry.org.au/wp-content/uploads/2026/01/7-min.png
ORGANIZER;CN="The Rutledge Bar &amp%3B Eats":MAILTO:contact@therutledge.com.au
END:VEVENT
BEGIN:VEVENT
DTSTART;TZID=Australia/Sydney:20260118T180000
DTEND;TZID=Australia/Sydney:20260118T210000
DTSTAMP:20260420T162758
CREATED:20260104T031250Z
LAST-MODIFIED:20260104T031250Z
UID:10000426-1768759200-1768770000@local.berry.org.au
SUMMARY:Michael Bond at The Rutledge
DESCRIPTION:Sunday 18 January 2026\n12:00 pm  3:00 pm\nMichael Bond performs live
URL:https://local.berry.org.au/event/michael-bond-at-the-rutledge/
LOCATION:The Rutledge Bar & Eats\, 71 Queen Street\, Berry
ATTACH;FMTTYPE=image/png:https://local.berry.org.au/wp-content/uploads/2026/01/6.png
ORGANIZER;CN="The Rutledge Bar &amp%3B Eats":MAILTO:contact@therutledge.com.au
END:VEVENT
BEGIN:VEVENT
DTSTART;TZID=Australia/Sydney:20260118T143000
DTEND;TZID=Australia/Sydney:20260118T170000
DTSTAMP:20260420T162758
CREATED:20251208T013654Z
LAST-MODIFIED:20251208T013654Z
UID:10000410-1768746600-1768755600@local.berry.org.au
SUMMARY:CIARAN CRIBBIN DUO | Great Southern Sundays
DESCRIPTION:🎶☀️ 𝐆𝐑𝐄𝐀𝐓 𝐒𝐎𝐔𝐓𝐇𝐄𝐑𝐍 𝐒𝐔𝐍𝐃𝐀𝐘𝐒 ☀️🎶\nGet ready to wind down your weekend the right way with Great Southern Sundays at The Southern!\nJoin us for an afternoon filled with live music\, cold drinks\, and the best vibes in town. Bring your friends\, bring your family\, Great Southern Sundays is for everyone – featuring incredible talent every weekend.\n———\n𝐃𝐀𝐓𝐄 🗓️ SUNDAY JAN 18\n𝐁𝐀𝐍𝐃 🎶 CIARAN CRIBBIN DUO\n𝐓𝐈𝐌𝐄 ⏰ LIVE MUSIC FROM 2:30PM\n𝐅𝐑𝐄𝐄 𝐄𝐍𝐓𝐑𝐘 𝐄𝐕𝐄𝐑𝐘 𝐖𝐄𝐄𝐊!
URL:https://local.berry.org.au/event/ciaran-cribbin-duo-great-southern-sundays/
LOCATION:Great Southern Hotel Berry\, 95 Queen St\, Berry\, NSW\, 2535
ATTACH;FMTTYPE=image/jpeg:https://local.berry.org.au/wp-content/uploads/2025/12/596809647_1422214996581401_912590543075867966_n.jpg
ORGANIZER;CN="Great Southern Hotel Berry":MAILTO:info@southernhotelberry.com.au
END:VEVENT
BEGIN:VEVENT
DTSTART;TZID=Australia/Sydney:20260117T190000
DTEND;TZID=Australia/Sydney:20260117T230000
DTSTAMP:20260420T162758
CREATED:20251208T013458Z
LAST-MODIFIED:20251208T013458Z
UID:10000409-1768676400-1768690800@local.berry.org.au
SUMMARY:KYE HAWKINS + FRIENDS | DJs Every Sat
DESCRIPTION:🪩 Welcome to Spin City Saturdays 🪩\nGet ready to slide onto the dance floor every Saturday night with the best local DJs slinging grooves until late. Whether you’re vibing to funky vinyl spins or high-energy house beats\, our DJs will keep the dance floor alive from 7pm ‘til late. It’s the perfect way to kick off your weekend – good tunes\, cold drinks\, and plenty of great company! 🍻\n🗓️ EVERY SATURDAY\n🎶 DJs from 7PM\n⚡️ FREE ENTRY\nBring your crew\, we’ll see you on the dance floor!
URL:https://local.berry.org.au/event/kye-hawkins-friends-djs-every-sat/
LOCATION:Great Southern Hotel Berry\, 95 Queen St\, Berry\, NSW\, 2535
ATTACH;FMTTYPE=image/jpeg:https://local.berry.org.au/wp-content/uploads/2025/12/596809200_1422183459917888_3531522437840938169_n-4.jpg
ORGANIZER;CN="Great Southern Hotel Berry":MAILTO:info@southernhotelberry.com.au
END:VEVENT
BEGIN:VEVENT
DTSTART;TZID=Australia/Sydney:20260117T180000
DTEND;TZID=Australia/Sydney:20260117T210000
DTSTAMP:20260420T162758
CREATED:20260104T031200Z
LAST-MODIFIED:20260104T031200Z
UID:10000425-1768672800-1768683600@local.berry.org.au
SUMMARY:Mick Mor at The Rutledge
DESCRIPTION:Saturday 17 January 2026\n6:00 pm  9:00 pm\nMick Mor performs live
URL:https://local.berry.org.au/event/mick-mor-at-the-rutledge/
LOCATION:The Rutledge Bar & Eats\, 71 Queen Street\, Berry
ATTACH;FMTTYPE=image/png:https://local.berry.org.au/wp-content/uploads/2026/01/5.png
ORGANIZER;CN="The Rutledge Bar &amp%3B Eats":MAILTO:contact@therutledge.com.au
END:VEVENT
BEGIN:VEVENT
DTSTART;TZID=Australia/Sydney:20260116T200000
DTEND;TZID=Australia/Sydney:20260116T220000
DTSTAMP:20260420T162758
CREATED:20251208T013259Z
LAST-MODIFIED:20251208T013259Z
UID:10000408-1768593600-1768600800@local.berry.org.au
SUMMARY:ACOUSTIC AUTOGRAPH | Friday Knock Off Sessions
DESCRIPTION:🍻☀️ Great Southern Knock Off Sessions ☀️🍻\nRinse your week off with epic live music every Friday at The Southern!\nStart your weekend right with live music\, cold drinks\, and the best vibes in town. Bring your friends\, bring your family\, Great Southern Sundays is for everyone – featuring incredible talent every Friday!\n———\n𝐃𝐀𝐓𝐄 🗓️ FRIDAY JAN 16\n𝐁𝐀𝐍𝐃 🎶 ACOUSTIC AUTOGRAPH\n𝐓𝐈𝐌𝐄 ⏰ LIVE MUSIC FROM 8PM\n𝐅𝐑𝐄𝐄 𝐄𝐍𝐓𝐑𝐘 𝐄𝐕𝐄𝐑𝐘 𝐖𝐄𝐄𝐊!
URL:https://local.berry.org.au/event/acoustic-autograph-friday-knock-off-sessions/
LOCATION:Great Southern Hotel Berry\, 95 Queen St\, Berry\, NSW\, 2535
ATTACH;FMTTYPE=image/jpeg:https://local.berry.org.au/wp-content/uploads/2025/12/595309156_1422226246580276_4892925731939807014_n-1.jpg
ORGANIZER;CN="Great Southern Hotel Berry":MAILTO:info@southernhotelberry.com.au
END:VEVENT
BEGIN:VEVENT
DTSTART;TZID=Australia/Sydney:20260116T180000
DTEND;TZID=Australia/Sydney:20260116T210000
DTSTAMP:20260420T162758
CREATED:20260104T031106Z
LAST-MODIFIED:20260104T032509Z
UID:10000424-1768586400-1768597200@local.berry.org.au
SUMMARY:Cassy Rae at The Rutledge
DESCRIPTION:Friday 16 January 2026\n6:00 pm  9:00 pm\nCassy Rae performs live
URL:https://local.berry.org.au/event/cassy-rae-at-the-rutledge/
LOCATION:The Rutledge Bar & Eats\, 71 Queen Street\, Berry
ATTACH;FMTTYPE=image/png:https://local.berry.org.au/wp-content/uploads/2026/01/4-min.png
ORGANIZER;CN="The Rutledge Bar &amp%3B Eats":MAILTO:contact@therutledge.com.au
END:VEVENT
BEGIN:VEVENT
DTSTART;TZID=Australia/Sydney:20260111T120000
DTEND;TZID=Australia/Sydney:20260111T150000
DTSTAMP:20260420T162758
CREATED:20260104T030938Z
LAST-MODIFIED:20260104T030938Z
UID:10000423-1768132800-1768143600@local.berry.org.au
SUMMARY:Jacob Barnes at The Rutledge - Sunday Sessions
DESCRIPTION:Sunday 11 January 2026\n12:00 pm  3:00 pm\nJacob Barnes performs live
URL:https://local.berry.org.au/event/jacob-barnes-at-the-rutledge-sunday-sessions/
LOCATION:The Rutledge Bar & Eats\, 71 Queen Street\, Berry
ATTACH;FMTTYPE=image/png:https://local.berry.org.au/wp-content/uploads/2026/01/3.png
ORGANIZER;CN="The Rutledge Bar &amp%3B Eats":MAILTO:contact@therutledge.com.au
END:VEVENT
BEGIN:VEVENT
DTSTART;TZID=Australia/Sydney:20260110T190000
DTEND;TZID=Australia/Sydney:20260110T230000
DTSTAMP:20260420T162758
CREATED:20251208T013108Z
LAST-MODIFIED:20251208T013108Z
UID:10000407-1768071600-1768086000@local.berry.org.au
SUMMARY:KYE HAWKINS | DJs Every Sat
DESCRIPTION:🪩 Welcome to Spin City Saturdays 🪩\nGet ready to slide onto the dance floor every Saturday night with the best local DJs slinging grooves until late. Whether you’re vibing to funky vinyl spins or high-energy house beats\, our DJs will keep the dance floor alive from 7pm ‘til late. It’s the perfect way to kick off your weekend – good tunes\, cold drinks\, and plenty of great company! 🍻\n🗓️ EVERY SATURDAY\n🎶 DJs from 8PM\n⚡️ FREE ENTRY\nBring your crew\, we’ll see you on the dance floor!
URL:https://local.berry.org.au/event/kye-hawkins-djs-every-sat/
LOCATION:Great Southern Hotel Berry\, 95 Queen St\, Berry\, NSW\, 2535
ATTACH;FMTTYPE=image/jpeg:https://local.berry.org.au/wp-content/uploads/2025/12/596809200_1422183459917888_3531522437840938169_n-3.jpg
ORGANIZER;CN="Great Southern Hotel Berry":MAILTO:info@southernhotelberry.com.au
END:VEVENT
BEGIN:VEVENT
DTSTART;TZID=Australia/Sydney:20260110T180000
DTEND;TZID=Australia/Sydney:20260110T210000
DTSTAMP:20260420T162758
CREATED:20260104T030822Z
LAST-MODIFIED:20260104T032436Z
UID:10000422-1768068000-1768078800@local.berry.org.au
SUMMARY:Kane Calcite at The Rutledge
DESCRIPTION:Saturday 10 January 2026\n6:00 pm  9:00 pm\nKane Calcite performs live
URL:https://local.berry.org.au/event/kane-calcite-at-the-rutledge-4/
LOCATION:The Rutledge Bar & Eats\, 71 Queen Street\, Berry
ATTACH;FMTTYPE=image/png:https://local.berry.org.au/wp-content/uploads/2026/01/2-min.png
ORGANIZER;CN="The Rutledge Bar &amp%3B Eats":MAILTO:contact@therutledge.com.au
END:VEVENT
BEGIN:VEVENT
DTSTART;TZID=Australia/Sydney:20260109T180000
DTEND;TZID=Australia/Sydney:20260109T210000
DTSTAMP:20260420T162758
CREATED:20260104T025937Z
LAST-MODIFIED:20260104T032328Z
UID:10000421-1767981600-1767992400@local.berry.org.au
SUMMARY:Dan Challis at The Rutledge
DESCRIPTION:Friday 9 January 2026\n6:00 pm – 9:00 pm\nDan Challis performs live
URL:https://local.berry.org.au/event/dan-challis-at-the-rutledge/
LOCATION:The Rutledge Bar & Eats\, 71 Queen Street\, Berry
ATTACH;FMTTYPE=image/png:https://local.berry.org.au/wp-content/uploads/2026/01/1-min.png
ORGANIZER;CN="The Rutledge Bar &amp%3B Eats":MAILTO:contact@therutledge.com.au
END:VEVENT
BEGIN:VEVENT
DTSTART;TZID=Australia/Sydney:20260103T190000
DTEND;TZID=Australia/Sydney:20260103T230000
DTSTAMP:20260420T162758
CREATED:20251208T012929Z
LAST-MODIFIED:20251208T012929Z
UID:10000406-1767466800-1767481200@local.berry.org.au
SUMMARY:THE VINYL DJS | DJs Every Sat
DESCRIPTION:🪩 Welcome to Spin City Saturdays 🪩\nGet ready to slide onto the dance floor every Saturday night with the best local DJs slinging grooves until late. Whether you’re vibing to funky vinyl spins or high-energy house beats\, our DJs will keep the dance floor alive from 7pm ‘til late. It’s the perfect way to kick off your weekend – good tunes\, cold drinks\, and plenty of great company! 🍻\n🗓️ EVERY SATURDAY\n🎶 DJs from 8PM\n⚡️ FREE ENTRY\nBring your crew\, we’ll see you on the dance floor!
URL:https://local.berry.org.au/event/the-vinyl-djs-djs-every-sat/
LOCATION:Great Southern Hotel Berry\, 95 Queen St\, Berry\, NSW\, 2535
ATTACH;FMTTYPE=image/jpeg:https://local.berry.org.au/wp-content/uploads/2025/12/596809200_1422183459917888_3531522437840938169_n-2.jpg
ORGANIZER;CN="Great Southern Hotel Berry":MAILTO:info@southernhotelberry.com.au
END:VEVENT
BEGIN:VEVENT
DTSTART;TZID=Australia/Sydney:20260102T200000
DTEND;TZID=Australia/Sydney:20260102T220000
DTSTAMP:20260420T162758
CREATED:20251117T230048Z
LAST-MODIFIED:20251117T230048Z
UID:10000388-1767384000-1767391200@local.berry.org.au
SUMMARY:MARK DABIN | Friday Knock Off Sessions
DESCRIPTION:🍻☀️ Great Southern Knock Off Sessions ☀️🍻\nRinse your week off with epic live music every Friday at The Southern!\nStart your weekend right with live music\, cold drinks\, and the best vibes in town. Bring your friends\, bring your family\, Great Southern Sundays is for everyone – featuring incredible talent every Friday!\n———\n𝐃𝐀𝐓𝐄 🗓️ FRIDAY JAN 02\n𝐁𝐀𝐍𝐃 🎶 MARK DABIN\n𝐓𝐈𝐌𝐄 ⏰ LIVE MUSIC FROM 8PM\n𝐅𝐑𝐄𝐄 𝐄𝐍𝐓𝐑𝐘 𝐄𝐕𝐄𝐑𝐘 𝐖𝐄𝐄𝐊!
URL:https://local.berry.org.au/event/mark-dabin-friday-knock-off-sessions/
LOCATION:Great Southern Hotel Berry\, 95 Queen St\, Berry\, NSW\, 2535
ATTACH;FMTTYPE=image/jpeg:https://local.berry.org.au/wp-content/uploads/2025/11/584537805_1404395725029995_6723565049115956263_n-2.jpg
ORGANIZER;CN="Great Southern Hotel Berry":MAILTO:info@southernhotelberry.com.au
END:VEVENT
BEGIN:VEVENT
DTSTART;TZID=Australia/Sydney:20251228T120000
DTEND;TZID=Australia/Sydney:20251228T150000
DTSTAMP:20260420T162758
CREATED:20251120T053109Z
LAST-MODIFIED:20251120T053109Z
UID:10000399-1766923200-1766934000@local.berry.org.au
SUMMARY:Sunday Sessions at The Rutledge
DESCRIPTION:Tyler Hauptberger performs live 12pm – 3pm
URL:https://local.berry.org.au/event/sunday-sessions-at-the-rutledge-4/
LOCATION:The Rutledge Bar & Eats\, 71 Queen Street\, Berry
ORGANIZER;CN="The Rutledge Bar &amp%3B Eats":MAILTO:contact@therutledge.com.au
END:VEVENT
END:VCALENDAR