BEGIN:VCALENDAR
VERSION:2.0
PRODID:-//Berry Local Directory - ECPv6.8.3//NONSGML v1.0//EN
CALSCALE:GREGORIAN
METHOD:PUBLISH
X-WR-CALNAME:Berry Local Directory
X-ORIGINAL-URL:https://local.berry.org.au
X-WR-CALDESC:Events for Berry Local Directory
REFRESH-INTERVAL;VALUE=DURATION:PT1H
X-Robots-Tag:noindex
X-PUBLISHED-TTL:PT1H
BEGIN:VTIMEZONE
TZID:Australia/Sydney
BEGIN:STANDARD
TZOFFSETFROM:+1100
TZOFFSETTO:+1000
TZNAME:AEST
DTSTART:20250405T160000
END:STANDARD
BEGIN:DAYLIGHT
TZOFFSETFROM:+1000
TZOFFSETTO:+1100
TZNAME:AEDT
DTSTART:20251004T160000
END:DAYLIGHT
BEGIN:STANDARD
TZOFFSETFROM:+1100
TZOFFSETTO:+1000
TZNAME:AEST
DTSTART:20260404T160000
END:STANDARD
BEGIN:DAYLIGHT
TZOFFSETFROM:+1000
TZOFFSETTO:+1100
TZNAME:AEDT
DTSTART:20261003T160000
END:DAYLIGHT
END:VTIMEZONE
BEGIN:VEVENT
DTSTART;TZID=Australia/Sydney:20260103T190000
DTEND;TZID=Australia/Sydney:20260103T230000
DTSTAMP:20260420T164951
CREATED:20251208T012929Z
LAST-MODIFIED:20251208T012929Z
UID:10000406-1767466800-1767481200@local.berry.org.au
SUMMARY:THE VINYL DJS | DJs Every Sat
DESCRIPTION:🪩 Welcome to Spin City Saturdays 🪩\nGet ready to slide onto the dance floor every Saturday night with the best local DJs slinging grooves until late. Whether you’re vibing to funky vinyl spins or high-energy house beats\, our DJs will keep the dance floor alive from 7pm ‘til late. It’s the perfect way to kick off your weekend – good tunes\, cold drinks\, and plenty of great company! 🍻\n🗓️ EVERY SATURDAY\n🎶 DJs from 8PM\n⚡️ FREE ENTRY\nBring your crew\, we’ll see you on the dance floor!
URL:https://local.berry.org.au/event/the-vinyl-djs-djs-every-sat/
LOCATION:Great Southern Hotel Berry\, 95 Queen St\, Berry\, NSW\, 2535
ATTACH;FMTTYPE=image/jpeg:https://local.berry.org.au/wp-content/uploads/2025/12/596809200_1422183459917888_3531522437840938169_n-2.jpg
ORGANIZER;CN="Great Southern Hotel Berry":MAILTO:info@southernhotelberry.com.au
END:VEVENT
BEGIN:VEVENT
DTSTART;TZID=Australia/Sydney:20260102T200000
DTEND;TZID=Australia/Sydney:20260102T220000
DTSTAMP:20260420T164951
CREATED:20251117T230048Z
LAST-MODIFIED:20251117T230048Z
UID:10000388-1767384000-1767391200@local.berry.org.au
SUMMARY:MARK DABIN | Friday Knock Off Sessions
DESCRIPTION:🍻☀️ Great Southern Knock Off Sessions ☀️🍻\nRinse your week off with epic live music every Friday at The Southern!\nStart your weekend right with live music\, cold drinks\, and the best vibes in town. Bring your friends\, bring your family\, Great Southern Sundays is for everyone – featuring incredible talent every Friday!\n———\n𝐃𝐀𝐓𝐄 🗓️ FRIDAY JAN 02\n𝐁𝐀𝐍𝐃 🎶 MARK DABIN\n𝐓𝐈𝐌𝐄 ⏰ LIVE MUSIC FROM 8PM\n𝐅𝐑𝐄𝐄 𝐄𝐍𝐓𝐑𝐘 𝐄𝐕𝐄𝐑𝐘 𝐖𝐄𝐄𝐊!
URL:https://local.berry.org.au/event/mark-dabin-friday-knock-off-sessions/
LOCATION:Great Southern Hotel Berry\, 95 Queen St\, Berry\, NSW\, 2535
ATTACH;FMTTYPE=image/jpeg:https://local.berry.org.au/wp-content/uploads/2025/11/584537805_1404395725029995_6723565049115956263_n-2.jpg
ORGANIZER;CN="Great Southern Hotel Berry":MAILTO:info@southernhotelberry.com.au
END:VEVENT
BEGIN:VEVENT
DTSTART;TZID=Australia/Sydney:20251228T120000
DTEND;TZID=Australia/Sydney:20251228T150000
DTSTAMP:20260420T164951
CREATED:20251120T053109Z
LAST-MODIFIED:20251120T053109Z
UID:10000399-1766923200-1766934000@local.berry.org.au
SUMMARY:Sunday Sessions at The Rutledge
DESCRIPTION:Tyler Hauptberger performs live 12pm – 3pm
URL:https://local.berry.org.au/event/sunday-sessions-at-the-rutledge-4/
LOCATION:The Rutledge Bar & Eats\, 71 Queen Street\, Berry
ORGANIZER;CN="The Rutledge Bar &amp%3B Eats":MAILTO:contact@therutledge.com.au
END:VEVENT
BEGIN:VEVENT
DTSTART;TZID=Australia/Sydney:20251228T100000
DTEND;TZID=Australia/Sydney:20251228T150000
DTSTAMP:20260420T164951
CREATED:20240624T004718Z
LAST-MODIFIED:20240624T005454Z
UID:10000060-1766916000-1766934000@local.berry.org.au
SUMMARY:Berry Village Market
DESCRIPTION:Berry Village Market every fourth Sunday of the month 10am to 3pm.\nSet in the grounds of Berry Bowling Club. \nGreat news! Coopers organic produce and now Gung’s award winning Thai joining us at Berry Village market. \nWhat you will find… \n\nOver 80 boutique specialty stalls\nThere will also be a splash of retro and collectables and vinyls.\nSomething for your fur babies\, a must. Please bring them along\nHealth products & advice.\nPlants\, fresh flowers\, organic produce\, bagels\, croissants \,olives\, gourmet organic oils\, pizzas for home\, homemade jams\, honey & mead\, BBQ essentials.\nGin\, wine & salami tastings.\nCome down for lunch we have Ola\, Chola\, South American food truck\, amazing avo & feta bruschetta\, and gourmet toasties\, Turkish Gozleme\, great coffee\, freshly made real lemonade and decedent donuts.\nBakers Chemistry with their range of gluten free breads and baked goods\, charcoal breads and pumpkin\, Blueberry muffin.\nLuv U More Pastries & Breads\, bagels\, focaccia\, croissants.\nLive music on the green\, with indoor and outdoor seating. Bring a picnic blanket and enjoy the market atmosphere.\nFull club facilities with ATM machine.\nAnd awesome stallholders too..!\nDog friendly.\nDisabled parking area
URL:https://local.berry.org.au/event/berry-village-market-2/2025-12-28/
LOCATION:Berry Bowling Club\, 140 Queen Street\, Berry\, NSW\, 2535\, Australia
ATTACH;FMTTYPE=image/jpeg:https://local.berry.org.au/wp-content/uploads/2024/06/439231648_827481819404412_8681540544796611829_n.jpg
ORGANIZER;CN="Berry Village Market":MAILTO:kerrie@hivizmarkets.com.au
END:VEVENT
BEGIN:VEVENT
DTSTART;TZID=Australia/Sydney:20251227T190000
DTEND;TZID=Australia/Sydney:20251227T230000
DTSTAMP:20260420T164951
CREATED:20251208T012634Z
LAST-MODIFIED:20251208T012634Z
UID:10000405-1766862000-1766876400@local.berry.org.au
SUMMARY:GROOVE UNION | DJs Every Sat
DESCRIPTION:🪩 Welcome to Spin City Saturdays 🪩\nGet ready to slide onto the dance floor every Saturday night with the best local DJs slinging grooves until late. Whether you’re vibing to funky vinyl spins or high-energy house beats\, our DJs will keep the dance floor alive from 7pm ‘til late. It’s the perfect way to kick off your weekend – good tunes\, cold drinks\, and plenty of great company! 🍻\n🗓️ EVERY SATURDAY\n🎶 DJs from 7PM\n⚡️ FREE ENTRY\nBring your crew\, we’ll see you on the dance floor!
URL:https://local.berry.org.au/event/groove-union-djs-every-sat/
LOCATION:Great Southern Hotel Berry\, 95 Queen St\, Berry\, NSW\, 2535
ORGANIZER;CN="Great Southern Hotel Berry":MAILTO:info@southernhotelberry.com.au
END:VEVENT
BEGIN:VEVENT
DTSTART;TZID=Australia/Sydney:20251227T180000
DTEND;TZID=Australia/Sydney:20251227T210000
DTSTAMP:20260420T164951
CREATED:20251013T030606Z
LAST-MODIFIED:20251013T030606Z
UID:10000376-1766858400-1766869200@local.berry.org.au
SUMMARY:About June at The Rutledge
DESCRIPTION:About June perform live 6pm – 9pm
URL:https://local.berry.org.au/event/about-june-at-the-rutledge-2/
LOCATION:The Rutledge Bar & Eats\, 71 Queen Street\, Berry
ATTACH;FMTTYPE=image/png:https://local.berry.org.au/wp-content/uploads/2025/10/19.png
ORGANIZER;CN="The Rutledge Bar &amp%3B Eats":MAILTO:contact@therutledge.com.au
END:VEVENT
BEGIN:VEVENT
DTSTART;TZID=Australia/Sydney:20251227T120000
DTEND;TZID=Australia/Sydney:20251227T233000
DTSTAMP:20260420T164951
CREATED:20251216T021315Z
LAST-MODIFIED:20251216T021315Z
UID:10000420-1766836800-1766878200@local.berry.org.au
SUMMARY:DECK SESSIONS: LAUNCH PARTY | Great Southern Hotel Berry
DESCRIPTION:☀️🍻 Great Southern Deck Session 🍻☀️ \nAlright Berry\, we built a spankin’ new deck\, and the time has officially come to give it a proper christening. \nSaturday 27 December marks our first ever Deck Session.\nLive music from 1pm\, summer drink specials\, and that proper Great Southern welcome – best enjoyed in the sun with a cold one in hand. \nThe first of many\, with plenty more good times rolling through summer. \n𝐃𝐀𝐓𝐄 🗓️ SATURDAY DEC 27\n𝐓𝐈𝐌𝐄 ⏰ LIVE MUSIC FROM 1PM\n𝐋𝐎𝐂𝐀𝐓𝐈𝐎𝐍 📍 GREAT SOUTHERN HOTEL BERRY\n𝐅𝐑𝐄𝐄 𝐄𝐍𝐓𝐑𝐘 🍻
URL:https://local.berry.org.au/event/deck-sessions-launch-party-great-southern-hotel-berry/
LOCATION:Great Southern Hotel Berry\, 95 Queen St\, Berry\, NSW\, 2535
END:VEVENT
BEGIN:VEVENT
DTSTART;TZID=Australia/Sydney:20251226T200000
DTEND;TZID=Australia/Sydney:20251226T220000
DTSTAMP:20260420T164951
CREATED:20251208T012241Z
LAST-MODIFIED:20251208T012241Z
UID:10000404-1766779200-1766786400@local.berry.org.au
SUMMARY:DAVE WHITE | Friday Knock Off Sessions
DESCRIPTION:🍻☀️ Great Southern Knock Off Sessions ☀️🍻\nRinse your week off with epic live music every Friday at The Southern!\nStart your weekend right with live music\, cold drinks\, and the best vibes in town. Bring your friends\, bring your family\, Great Southern Sundays is for everyone – featuring incredible talent every Friday!\n———\n𝐃𝐀𝐓𝐄 🗓️ FRIDAY DEC 26\n𝐁𝐀𝐍𝐃 🎶 DAVE WHITE\n𝐓𝐈𝐌𝐄 ⏰ LIVE MUSIC FROM 8PM\n𝐅𝐑𝐄𝐄 𝐄𝐍𝐓𝐑𝐘 𝐄𝐕𝐄𝐑𝐘 𝐖𝐄𝐄𝐊!
URL:https://local.berry.org.au/event/dave-white-friday-knock-off-sessions/
LOCATION:Great Southern Hotel Berry\, 95 Queen St\, Berry\, NSW\, 2535
ATTACH;FMTTYPE=image/jpeg:https://local.berry.org.au/wp-content/uploads/2025/12/595309156_1422226246580276_4892925731939807014_n.jpg
ORGANIZER;CN="Great Southern Hotel Berry":MAILTO:info@southernhotelberry.com.au
END:VEVENT
BEGIN:VEVENT
DTSTART;TZID=Australia/Sydney:20251221T120000
DTEND;TZID=Australia/Sydney:20251221T150000
DTSTAMP:20260420T164951
CREATED:20251120T052815Z
LAST-MODIFIED:20251120T052815Z
UID:10000398-1766318400-1766329200@local.berry.org.au
SUMMARY:Sunday Sessions at The Rutledge
DESCRIPTION:Justin Stock performs live 12pm – 3pm
URL:https://local.berry.org.au/event/sunday-sessions-at-the-rutledge-3/
LOCATION:The Rutledge Bar & Eats\, 71 Queen Street\, Berry
ATTACH;FMTTYPE=image/png:https://local.berry.org.au/wp-content/uploads/2025/11/Rutledge-Summer-Events-1920-x-1080-px-6.png
ORGANIZER;CN="The Rutledge Bar &amp%3B Eats":MAILTO:contact@therutledge.com.au
END:VEVENT
BEGIN:VEVENT
DTSTART;TZID=Australia/Sydney:20251221T080000
DTEND;TZID=Australia/Sydney:20251221T170000
DTSTAMP:20260420T164951
CREATED:20251125T053648Z
LAST-MODIFIED:20251125T053648Z
UID:10000401-1766304000-1766336400@local.berry.org.au
SUMMARY:SWEET JELLY ROLLS | Great Southern Sundays
DESCRIPTION:🎶☀️ 𝐆𝐑𝐄𝐀𝐓 𝐒𝐎𝐔𝐓𝐇𝐄𝐑𝐍 𝐒𝐔𝐍𝐃𝐀𝐘𝐒 ☀️🎶\nGet ready to wind down your weekend the right way with Great Southern Sundays at The Southern!\nJoin us for an afternoon filled with live music\, cold drinks\, and the best vibes in town. Bring your friends\, bring your family\, Great Southern Sundays is for everyone – featuring incredible talent every weekend.\n———\n𝐃𝐀𝐓𝐄 🗓️ SUNDAY DEC 21\n𝐁𝐀𝐍𝐃 🎶 SWEET JELLY ROLLS\n𝐓𝐈𝐌𝐄 ⏰ LIVE MUSIC FROM 2:30PM\n𝐅𝐑𝐄𝐄 𝐄𝐍𝐓𝐑𝐘 𝐄𝐕𝐄𝐑𝐘 𝐖𝐄𝐄𝐊!
URL:https://local.berry.org.au/event/sweet-jelly-rolls-great-southern-sundays/
LOCATION:Great Southern Hotel Berry\, 95 Queen St\, Berry\, NSW\, 2535
ATTACH;FMTTYPE=image/jpeg:https://local.berry.org.au/wp-content/uploads/2025/11/587313842_1411550857647815_7517457104531142748_n.jpg
END:VEVENT
BEGIN:VEVENT
DTSTART;TZID=Australia/Sydney:20251220T190000
DTEND;TZID=Australia/Sydney:20251220T230000
DTSTAMP:20260420T164951
CREATED:20251208T011629Z
LAST-MODIFIED:20251208T011629Z
UID:10000403-1766257200-1766271600@local.berry.org.au
SUMMARY:THE VINYL DJS | DJs Every Saturday
DESCRIPTION:🪩 Welcome to Spin City Saturdays 🪩\nGet ready to slide onto the dance floor every Saturday night with the best local DJs slinging grooves until late. Whether you’re vibing to funky vinyl spins or high-energy house beats\, our DJs will keep the dance floor alive from 7pm ‘til late. It’s the perfect way to kick off your weekend – good tunes\, cold drinks\, and plenty of great company! 🍻\n🗓️ EVERY SATURDAY\n🎶 DJs from 8PM\n⚡️ FREE ENTRY
URL:https://local.berry.org.au/event/the-vinyl-djs-djs-every-saturday/
LOCATION:Great Southern Hotel Berry\, 95 Queen St\, Berry\, NSW\, 2535
ATTACH;FMTTYPE=image/jpeg:https://local.berry.org.au/wp-content/uploads/2025/12/596809200_1422183459917888_3531522437840938169_n-1.jpg
ORGANIZER;CN="Great Southern Hotel Berry":MAILTO:info@southernhotelberry.com.au
END:VEVENT
BEGIN:VEVENT
DTSTART;TZID=Australia/Sydney:20251220T180000
DTEND;TZID=Australia/Sydney:20251220T210000
DTSTAMP:20260420T164951
CREATED:20251013T030519Z
LAST-MODIFIED:20251013T030519Z
UID:10000375-1766253600-1766264400@local.berry.org.au
SUMMARY:Kane Calcite at The Rutledge
DESCRIPTION:Kane Calcite performs live 6pm – 9pm
URL:https://local.berry.org.au/event/kane-calcite-at-the-rutledge-3/
LOCATION:The Rutledge Bar & Eats\, 71 Queen Street\, Berry
ATTACH;FMTTYPE=image/png:https://local.berry.org.au/wp-content/uploads/2025/10/Rutledge-Summer-Events-1920-x-1080-px.png
ORGANIZER;CN="The Rutledge Bar &amp%3B Eats":MAILTO:contact@therutledge.com.au
END:VEVENT
BEGIN:VEVENT
DTSTART;TZID=Australia/Sydney:20251219T200000
DTEND;TZID=Australia/Sydney:20251219T220000
DTSTAMP:20260420T164951
CREATED:20251117T225807Z
LAST-MODIFIED:20251117T225807Z
UID:10000387-1766174400-1766181600@local.berry.org.au
SUMMARY:THE FREEWHEELERS | Friday Knock Off Sessions
DESCRIPTION:🍻☀️ Great Southern Knock Off Sessions ☀️🍻\nRinse your week off with epic live music every Friday at The Southern!\nStart your weekend right with live music\, cold drinks\, and the best vibes in town. Bring your friends\, bring your family\, Great Southern Sundays is for everyone – featuring incredible talent every Friday!\n———\n𝐃𝐀𝐓𝐄 🗓️ FRIDAY DEC 19\n𝐁𝐀𝐍𝐃 🎶 THE FREEWHEELERS\n𝐓𝐈𝐌𝐄 ⏰ LIVE MUSIC FROM 8PM\n𝐅𝐑𝐄𝐄 𝐄𝐍𝐓𝐑𝐘 𝐄𝐕𝐄𝐑𝐘 𝐖𝐄𝐄𝐊!
URL:https://local.berry.org.au/event/the-freewheelers-friday-knock-off-sessions/
LOCATION:Great Southern Hotel Berry\, 95 Queen St\, Berry\, NSW\, 2535
ATTACH;FMTTYPE=image/jpeg:https://local.berry.org.au/wp-content/uploads/2025/11/584537805_1404395725029995_6723565049115956263_n-1.jpg
ORGANIZER;CN="Great Southern Hotel Berry":MAILTO:info@southernhotelberry.com.au
END:VEVENT
BEGIN:VEVENT
DTSTART;TZID=Australia/Sydney:20251219T180000
DTEND;TZID=Australia/Sydney:20251219T210000
DTSTAMP:20260420T164951
CREATED:20251013T030215Z
LAST-MODIFIED:20251120T052609Z
UID:10000374-1766167200-1766178000@local.berry.org.au
SUMMARY:Keith Z Music at The Rutledge
DESCRIPTION:Keith Z performs live 6pm – 9pm
URL:https://local.berry.org.au/event/liam-maihi-at-the-rutledge-3/
LOCATION:The Rutledge Bar & Eats\, 71 Queen Street\, Berry
ATTACH;FMTTYPE=image/png:https://local.berry.org.au/wp-content/uploads/2025/10/18.png
ORGANIZER;CN="The Rutledge Bar &amp%3B Eats":MAILTO:contact@therutledge.com.au
END:VEVENT
BEGIN:VEVENT
DTSTART;TZID=Australia/Sydney:20251214T143000
DTEND;TZID=Australia/Sydney:20251214T170000
DTSTAMP:20260420T164951
CREATED:20251208T202456Z
LAST-MODIFIED:20251208T202456Z
UID:10000419-1765722600-1765731600@local.berry.org.au
SUMMARY:DAVE WHITE | Great Southern Sundays
DESCRIPTION:🎶☀️ 𝐆𝐑𝐄𝐀𝐓 𝐒𝐎𝐔𝐓𝐇𝐄𝐑𝐍 𝐒𝐔𝐍𝐃𝐀𝐘𝐒 ☀️🎶\nGet ready to wind down your weekend the right way with Great Southern Sundays at The Southern!\nJoin us for an afternoon filled with live music\, cold drinks\, and the best vibes in town. Bring your friends\, bring your family\, Great Southern Sundays is for everyone – featuring incredible talent every weekend.\n———\n𝐃𝐀𝐓𝐄 🗓️ SUNDAY DEC 14\n𝐁𝐀𝐍𝐃 🎶 DAVE WHITE\n𝐓𝐈𝐌𝐄 ⏰ LIVE MUSIC FROM 2:30PM\n𝐅𝐑𝐄𝐄 𝐄𝐍𝐓𝐑𝐘 𝐄𝐕𝐄𝐑𝐘 𝐖𝐄𝐄𝐊!
URL:https://local.berry.org.au/event/dave-white-great-southern-sundays-2/
LOCATION:Great Southern Hotel Berry\, 95 Queen St\, Berry\, NSW\, 2535
ORGANIZER;CN="Great Southern Hotel Berry":MAILTO:info@southernhotelberry.com.au
END:VEVENT
BEGIN:VEVENT
DTSTART;TZID=Australia/Sydney:20251213T190000
DTEND;TZID=Australia/Sydney:20251213T230000
DTSTAMP:20260420T164951
CREATED:20251208T011140Z
LAST-MODIFIED:20251208T011140Z
UID:10000402-1765652400-1765666800@local.berry.org.au
SUMMARY:KYE HAWKINS | Spin City DJ's
DESCRIPTION:🪩 Welcome to Spin City Saturdays 🪩\nGet ready to slide onto the dance floor every Saturday night with the best local DJs slinging grooves until late. Whether you’re vibing to funky vinyl spins or high-energy house beats\, our DJs will keep the dance floor alive from 7pm ‘til late. It’s the perfect way to kick off your weekend – good tunes\, cold drinks\, and plenty of great company! 🍻\n🗓️ EVERY SATURDAY\n🎶 DJs from 8PM\n⚡️ FREE ENTRY\nBring your crew\, we’ll see you on the dance floor!
URL:https://local.berry.org.au/event/kye-hawkins-spin-city-djs/
LOCATION:Great Southern Hotel Berry\, 95 Queen St\, Berry\, NSW\, 2535
ATTACH;FMTTYPE=image/jpeg:https://local.berry.org.au/wp-content/uploads/2025/12/596809200_1422183459917888_3531522437840938169_n.jpg
ORGANIZER;CN="Great Southern Hotel Berry":MAILTO:info@southernhotelberry.com.au
END:VEVENT
BEGIN:VEVENT
DTSTART;TZID=Australia/Sydney:20251213T180000
DTEND;TZID=Australia/Sydney:20251213T210000
DTSTAMP:20260420T164951
CREATED:20251013T030123Z
LAST-MODIFIED:20251013T030123Z
UID:10000373-1765648800-1765659600@local.berry.org.au
SUMMARY:Mark Newton at The Rutledge
DESCRIPTION:Mark Newton performs live 6pm – 9pm
URL:https://local.berry.org.au/event/mark-newton-at-the-rutledge-3/
LOCATION:The Rutledge Bar & Eats\, 71 Queen Street\, Berry
ATTACH;FMTTYPE=image/png:https://local.berry.org.au/wp-content/uploads/2025/10/17.png
ORGANIZER;CN="The Rutledge Bar &amp%3B Eats":MAILTO:contact@therutledge.com.au
END:VEVENT
BEGIN:VEVENT
DTSTART;TZID=Australia/Sydney:20251212T200000
DTEND;TZID=Australia/Sydney:20251212T220000
DTSTAMP:20260420T164951
CREATED:20251117T225615Z
LAST-MODIFIED:20251117T225615Z
UID:10000386-1765569600-1765576800@local.berry.org.au
SUMMARY:DIRTY GROOVES (SOLO) | Knock Off Sessions
DESCRIPTION:🍻☀️ Great Southern Knock Off Sessions ☀️🍻\nRinse your week off with epic live music every Friday at The Southern!\nStart your weekend right with live music\, cold drinks\, and the best vibes in town. Bring your friends\, bring your family\, Great Southern Sundays is for everyone – featuring incredible talent every Friday!\n———\n𝐃𝐀𝐓𝐄 🗓️ FRIDAY DEC 12\n𝐁𝐀𝐍𝐃 🎶 DIRTY GROOVES (SOLO)\n𝐓𝐈𝐌𝐄 ⏰ LIVE MUSIC FROM 8PM\n𝐅𝐑𝐄𝐄 𝐄𝐍𝐓𝐑𝐘 𝐄𝐕𝐄𝐑𝐘 𝐖𝐄𝐄𝐊!
URL:https://local.berry.org.au/event/dirty-grooves-solo-knock-off-sessions/
LOCATION:Great Southern Hotel Berry\, 95 Queen St\, Berry\, NSW\, 2535
ATTACH;FMTTYPE=image/jpeg:https://local.berry.org.au/wp-content/uploads/2025/11/584537805_1404395725029995_6723565049115956263_n.jpg
ORGANIZER;CN="Great Southern Hotel Berry":MAILTO:info@southernhotelberry.com.au
END:VEVENT
BEGIN:VEVENT
DTSTART;TZID=Australia/Sydney:20251212T180000
DTEND;TZID=Australia/Sydney:20251212T210000
DTSTAMP:20260420T164951
CREATED:20251013T030029Z
LAST-MODIFIED:20251013T030029Z
UID:10000372-1765562400-1765573200@local.berry.org.au
SUMMARY:Kane Calcite at The Rutledge
DESCRIPTION:Kane Calcite performs live 6pm – 9pm
URL:https://local.berry.org.au/event/kane-calcite-at-the-rutledge-2/
LOCATION:The Rutledge Bar & Eats\, 71 Queen Street\, Berry
ORGANIZER;CN="The Rutledge Bar &amp%3B Eats":MAILTO:contact@therutledge.com.au
END:VEVENT
BEGIN:VEVENT
DTSTART;TZID=Australia/Sydney:20251207T143000
DTEND;TZID=Australia/Sydney:20251207T173000
DTSTAMP:20260420T164951
CREATED:20251117T225219Z
LAST-MODIFIED:20251117T225305Z
UID:10000385-1765117800-1765128600@local.berry.org.au
SUMMARY:BONNEVILLIANS |Great Southern Sundays
DESCRIPTION:🎶☀️ 𝐆𝐑𝐄𝐀𝐓 𝐒𝐎𝐔𝐓𝐇𝐄𝐑𝐍 𝐒𝐔𝐍𝐃𝐀𝐘𝐒 ☀️🎶\nGet ready to wind down your weekend the right way with Great Southern Sundays at The Southern!\nJoin us for an afternoon filled with live music\, cold drinks\, and the best vibes in town. Bring your friends\, bring your family\, Great Southern Sundays is for everyone – featuring incredible talent every weekend.\n———\n𝐃𝐀𝐓𝐄 🗓️ SUNDAY DEC 07\n𝐁𝐀𝐍𝐃 🎶 BONNEVILLIANS\n𝐓𝐈𝐌𝐄 ⏰ LIVE MUSIC FROM 2:30PM\n𝐅𝐑𝐄𝐄 𝐄𝐍𝐓𝐑𝐘 𝐄𝐕𝐄𝐑𝐘 𝐖𝐄𝐄𝐊!\n———\nMark your calendars and come see why Great Southern Sundays are the best way to cap off your weekend! We can’t wait to see you there!
URL:https://local.berry.org.au/event/zed-apton-great-southern-sundays-3/
LOCATION:Great Southern Hotel Berry\, 95 Queen St\, Berry\, NSW\, 2535
ATTACH;FMTTYPE=image/jpeg:https://local.berry.org.au/wp-content/uploads/2025/11/581999461_1404402885029279_7177380980659140828_n.jpg
ORGANIZER;CN="Great Southern Hotel Berry":MAILTO:info@southernhotelberry.com.au
END:VEVENT
BEGIN:VEVENT
DTSTART;TZID=Australia/Sydney:20251207T120000
DTEND;TZID=Australia/Sydney:20251207T150000
DTSTAMP:20260420T164951
CREATED:20251120T045215Z
LAST-MODIFIED:20251120T045215Z
UID:10000397-1765108800-1765119600@local.berry.org.au
SUMMARY:Sunday Sessions at The Rutledge
DESCRIPTION:Three Hours South perform live 12pm – 3pm
URL:https://local.berry.org.au/event/sunday-sessions-at-the-rutledge-2/
LOCATION:The Rutledge Bar & Eats\, 71 Queen Street\, Berry
ATTACH;FMTTYPE=image/png:https://local.berry.org.au/wp-content/uploads/2025/11/Rutledge-Summer-Events-1920-x-1080-px-5.png
ORGANIZER;CN="The Rutledge Bar &amp%3B Eats":MAILTO:contact@therutledge.com.au
END:VEVENT
BEGIN:VEVENT
DTSTART;TZID=Australia/Sydney:20251206T180000
DTEND;TZID=Australia/Sydney:20251206T210000
DTSTAMP:20260420T164951
CREATED:20251013T025933Z
LAST-MODIFIED:20251013T025933Z
UID:10000371-1765044000-1765054800@local.berry.org.au
SUMMARY:Jacii-Leigh at The Rutledge
DESCRIPTION:Jacii-Leigh performs live 6pm – 9pm
URL:https://local.berry.org.au/event/jacii-leigh-at-the-rutledge/
LOCATION:The Rutledge Bar & Eats\, 71 Queen Street\, Berry
ATTACH;FMTTYPE=image/png:https://local.berry.org.au/wp-content/uploads/2025/10/15.png
ORGANIZER;CN="The Rutledge Bar &amp%3B Eats":MAILTO:contact@therutledge.com.au
END:VEVENT
BEGIN:VEVENT
DTSTART;TZID=Australia/Sydney:20251205T200000
DTEND;TZID=Australia/Sydney:20251205T220000
DTSTAMP:20260420T164951
CREATED:20251125T053403Z
LAST-MODIFIED:20251125T053403Z
UID:10000400-1764964800-1764972000@local.berry.org.au
SUMMARY:JOCEAN |Friday Knock Off Sessions
DESCRIPTION:🍻☀️ Great Southern Knock Off Sessions ☀️🍻\nRinse your week off with epic live music every Friday at The Southern!\nStart your weekend right with live music\, cold drinks\, and the best vibes in town. Bring your friends\, bring your family\, Great Southern Sundays is for everyone – featuring incredible talent every Friday!\n———\n𝐃𝐀𝐓𝐄 🗓️ FRIDAY DEC 05\n𝐁𝐀𝐍𝐃 🎶 JOCEAN\n𝐓𝐈𝐌𝐄 ⏰ LIVE MUSIC FROM 8PM\n𝐅𝐑𝐄𝐄 𝐄𝐍𝐓𝐑𝐘 𝐄𝐕𝐄𝐑𝐘 𝐖𝐄𝐄𝐊!
URL:https://local.berry.org.au/event/jocean-friday-knock-off-sessions/
LOCATION:Great Southern Hotel Berry\, 95 Queen St\, Berry\, NSW\, 2535
ATTACH;FMTTYPE=image/jpeg:https://local.berry.org.au/wp-content/uploads/2025/11/587698020_1411551510981083_4687703477250408956_n.jpg
ORGANIZER;CN="Great Southern Hotel Berry":MAILTO:info@southernhotelberry.com.au
END:VEVENT
BEGIN:VEVENT
DTSTART;TZID=Australia/Sydney:20251130T143000
DTEND;TZID=Australia/Sydney:20251130T170000
DTSTAMP:20260420T164951
CREATED:20251001T084354Z
LAST-MODIFIED:20251001T084354Z
UID:10000355-1764513000-1764522000@local.berry.org.au
SUMMARY:DIRTY GROOVES | Great Southern Sundays
DESCRIPTION:🎶☀️ 𝐆𝐑𝐄𝐀𝐓 𝐒𝐎𝐔𝐓𝐇𝐄𝐑𝐍 𝐒𝐔𝐍𝐃𝐀𝐘𝐒 ☀️🎶\nGet ready to wind down your weekend the right way with Great Southern Sundays at The Southern!\nJoin us for an afternoon filled with live music\, cold drinks\, and the best vibes in town. Bring your friends\, bring your family\, Great Southern Sundays is for everyone – featuring incredible talent every weekend.\n———\n𝐃𝐀𝐓𝐄 🗓️ SUNDAY NOV 30\n𝐁𝐀𝐍𝐃 🎶 DIRTY GROOVES\n𝐓𝐈𝐌𝐄 ⏰ LIVE MUSIC FROM 2:30PM\n𝐅𝐑𝐄𝐄 𝐄𝐍𝐓𝐑𝐘 𝐄𝐕𝐄𝐑𝐘 𝐖𝐄𝐄𝐊!
URL:https://local.berry.org.au/event/dirty-grooves-great-southern-sundays/
LOCATION:Great Southern Hotel Berry\, 95 Queen St\, Berry\, NSW\, 2535
ATTACH;FMTTYPE=image/jpeg:https://local.berry.org.au/wp-content/uploads/2025/10/552731453_1353116103491291_7695469189528278838_n-8.jpg
ORGANIZER;CN="Great Southern Hotel Berry":MAILTO:info@southernhotelberry.com.au
END:VEVENT
BEGIN:VEVENT
DTSTART;TZID=Australia/Sydney:20251130T130000
DTEND;TZID=Australia/Sydney:20251130T150000
DTSTAMP:20260420T164951
CREATED:20251026T233925Z
LAST-MODIFIED:20251026T233925Z
UID:10000382-1764507600-1764514800@local.berry.org.au
SUMMARY:Sunday Sessions at The Rutledge
DESCRIPTION:Jackee B performs live 1 – 3pm
URL:https://local.berry.org.au/event/sunday-sessions-at-the-rutledge/
LOCATION:The Rutledge Bar & Eats\, 71 Queen Street\, Berry
ATTACH;FMTTYPE=image/png:https://local.berry.org.au/wp-content/uploads/2025/10/Rutledge-Summer-Events-1920-x-1080-px-2.png
ORGANIZER;CN="The Rutledge Bar &amp%3B Eats":MAILTO:contact@therutledge.com.au
END:VEVENT
BEGIN:VEVENT
DTSTART;TZID=Australia/Sydney:20251129T180000
DTEND;TZID=Australia/Sydney:20251129T210000
DTSTAMP:20260420T164951
CREATED:20251013T025749Z
LAST-MODIFIED:20251013T025749Z
UID:10000369-1764439200-1764450000@local.berry.org.au
SUMMARY:Tall Shaun at The Rutledge
DESCRIPTION:Tall Shaun performs live 6pm – 9pm
URL:https://local.berry.org.au/event/tall-shaun-at-the-rutledge/
LOCATION:The Rutledge Bar & Eats\, 71 Queen Street\, Berry
ATTACH;FMTTYPE=image/png:https://local.berry.org.au/wp-content/uploads/2025/10/13.png
ORGANIZER;CN="The Rutledge Bar &amp%3B Eats":MAILTO:contact@therutledge.com.au
END:VEVENT
BEGIN:VEVENT
DTSTART;TZID=Australia/Sydney:20251128T200000
DTEND;TZID=Australia/Sydney:20251128T220000
DTSTAMP:20260420T164951
CREATED:20251001T084033Z
LAST-MODIFIED:20251117T224924Z
UID:10000353-1764360000-1764367200@local.berry.org.au
SUMMARY:CRASH AVENUE | Friday Knock Off’s
DESCRIPTION:🍻☀️ Great Southern Knock Off Sessions ☀️🍻\nRinse your week off with epic live music every Friday at The Southern!\nStart your weekend right with live music\, cold drinks\, and the best vibes in town. Bring your friends\, bring your family\, Great Southern Sundays is for everyone – featuring incredible talent every Friday!\n———\n𝐃𝐀𝐓𝐄 🗓️ FRIDAYNOV 28\n𝐁𝐀𝐍𝐃 🎶 MARK DAVIN\n𝐓𝐈𝐌𝐄 ⏰ LIVE MUSIC FROM 8PM\n𝐅𝐑𝐄𝐄 𝐄𝐍𝐓𝐑𝐘 𝐄𝐕𝐄𝐑𝐘 𝐖𝐄𝐄𝐊!
URL:https://local.berry.org.au/event/mark-davin-friday-knock-offs/
LOCATION:Great Southern Hotel Berry\, 95 Queen St\, Berry\, NSW\, 2535
ATTACH;FMTTYPE=image/jpeg:https://local.berry.org.au/wp-content/uploads/2025/10/552630342_1353113806824854_7709759602390186453_n-4.jpg
ORGANIZER;CN="Great Southern Hotel Berry":MAILTO:info@southernhotelberry.com.au
END:VEVENT
BEGIN:VEVENT
DTSTART;TZID=Australia/Sydney:20251128T180000
DTEND;TZID=Australia/Sydney:20251128T210000
DTSTAMP:20260420T164951
CREATED:20251013T025652Z
LAST-MODIFIED:20251013T025652Z
UID:10000368-1764352800-1764363600@local.berry.org.au
SUMMARY:Liam Maihi at The Rutledge
DESCRIPTION:Liam Maihi performs live 6pm – 9pm
URL:https://local.berry.org.au/event/liam-maihi-at-the-rutledge-2/
LOCATION:The Rutledge Bar & Eats\, 71 Queen Street\, Berry
ATTACH;FMTTYPE=image/png:https://local.berry.org.au/wp-content/uploads/2025/10/12.png
ORGANIZER;CN="The Rutledge Bar &amp%3B Eats":MAILTO:contact@therutledge.com.au
END:VEVENT
BEGIN:VEVENT
DTSTART;VALUE=DATE:20251125
DTEND;VALUE=DATE:20251211
DTSTAMP:20260420T164951
CREATED:20251019T004507Z
LAST-MODIFIED:20251019T004937Z
UID:10000381-1764028800-1765411199@local.berry.org.au
SUMMARY:Zonta Club of Berry “16 Days of Activism”
DESCRIPTION:The Zonta Club of Berry is launching its annual “16 Days of Activism” from 25 Nov 2025 to 10 Dec 2025 at Broughton Court\, Berry NSW by adorning trees with orange ribbons\, and symbolic orange shoes that represent a life lost to domestic violence. \nOur “16 Days of Activism” opens on the International Day for the Elimination of Violence Against Women (25 Nov 25)\, includes World Aids Day (1 Dec 25) and ends on Human Rights Day (10 Dec 25). \nIt’s part of Zonta International’s campaign taking a stand against the devastating pandemic of violence against women by raising awareness of women’s rights violations. It also highlights the alarming statistics of domestic violence across Australia and within the Shoalhaven region.  \nAcross Australia\, a woman loses her life to domestic violence every six days. In the year leading up to June 2023\, domestic violence-related homicides in the Shoalhaven area reached nearly twice the New South Wales average. \nWe encourage everyone to visit Broughton Court during this period to reflect on the impact of domestic violence and to join the movement to end it. Each ribbon\, each shoe\, is a reminder of those lost and of our collective responsibility to create a safer world for women and girls.
URL:https://local.berry.org.au/event/zonta-club-of-berry-16-days-of-activism/
ATTACH;FMTTYPE=image/jpeg:https://local.berry.org.au/wp-content/uploads/2025/10/Zonta-Says-No-to-Violence.jpg
END:VEVENT
BEGIN:VEVENT
DTSTART;TZID=Australia/Sydney:20251123T143000
DTEND;TZID=Australia/Sydney:20251123T170000
DTSTAMP:20260420T164951
CREATED:20251001T083849Z
LAST-MODIFIED:20251001T083849Z
UID:10000352-1763908200-1763917200@local.berry.org.au
SUMMARY:ZED APTON |Great Southern Sundays
DESCRIPTION:🎶☀️ 𝐆𝐑𝐄𝐀𝐓 𝐒𝐎𝐔𝐓𝐇𝐄𝐑𝐍 𝐒𝐔𝐍𝐃𝐀𝐘𝐒 ☀️🎶\nGet ready to wind down your weekend the right way with Great Southern Sundays at The Southern!\nJoin us for an afternoon filled with live music\, cold drinks\, and the best vibes in town. Bring your friends\, bring your family\, Great Southern Sundays is for everyone – featuring incredible talent every weekend.\n———\n𝐃𝐀𝐓𝐄 🗓️ SUNDAY NOV 23\n𝐁𝐀𝐍𝐃 🎶 ZED APTON\n𝐓𝐈𝐌𝐄 ⏰ LIVE MUSIC FROM 2:30PM\n𝐅𝐑𝐄𝐄 𝐄𝐍𝐓𝐑𝐘 𝐄𝐕𝐄𝐑𝐘 𝐖𝐄𝐄𝐊!
URL:https://local.berry.org.au/event/zed-apton-great-southern-sundays-2/
LOCATION:Great Southern Hotel Berry\, 95 Queen St\, Berry\, NSW\, 2535
ATTACH;FMTTYPE=image/jpeg:https://local.berry.org.au/wp-content/uploads/2025/10/552731453_1353116103491291_7695469189528278838_n-7.jpg
ORGANIZER;CN="Great Southern Hotel Berry":MAILTO:info@southernhotelberry.com.au
END:VEVENT
END:VCALENDAR