BEGIN:VCALENDAR
VERSION:2.0
PRODID:-//Berry Local Directory - ECPv6.8.3//NONSGML v1.0//EN
CALSCALE:GREGORIAN
METHOD:PUBLISH
X-ORIGINAL-URL:https://local.berry.org.au
X-WR-CALDESC:Events for Berry Local Directory
REFRESH-INTERVAL;VALUE=DURATION:PT1H
X-Robots-Tag:noindex
X-PUBLISHED-TTL:PT1H
BEGIN:VTIMEZONE
TZID:Australia/Sydney
BEGIN:STANDARD
TZOFFSETFROM:+1100
TZOFFSETTO:+1000
TZNAME:AEST
DTSTART:20260404T160000
END:STANDARD
BEGIN:DAYLIGHT
TZOFFSETFROM:+1000
TZOFFSETTO:+1100
TZNAME:AEDT
DTSTART:20261003T160000
END:DAYLIGHT
END:VTIMEZONE
BEGIN:VEVENT
DTSTART;TZID=Australia/Sydney:20260523T190000
DTEND;TZID=Australia/Sydney:20260523T233000
DTSTAMP:20260422T143801
CREATED:20260401T001800Z
LAST-MODIFIED:20260401T001800Z
UID:10000483-1779562800-1779579000@local.berry.org.au
SUMMARY:THE VINYL DJS  | DJs Every Sat
DESCRIPTION:🪩 Welcome to Spin City Saturdays 🪩\nGet ready to slide onto the dance floor every Saturday night with the best local DJs slinging grooves until late. Whether you’re vibing to funky vinyl spins or high-energy house beats\, our DJs will keep the dance floor alive from 7pm ‘til late. It’s the perfect way to kick off your weekend – good tunes\, cold drinks\, and plenty of great company! 🍻\n🗓️ EVERY SATURDAY\n🎶 DJs from 7PM\n⚡️ FREE ENTRY\nBring your crew\, we’ll see you on the dance floor!
URL:https://local.berry.org.au/event/the-vinyl-djs-djs-every-sat-5/
LOCATION:Great Southern Hotel Berry\, 95 Queen St\, Berry\, NSW\, 2535
ATTACH;FMTTYPE=image/jpeg:https://local.berry.org.au/wp-content/uploads/2026/04/658138597_1520615916741308_7012457810575081580_n-7.jpg
ORGANIZER;CN="Great Southern Hotel Berry":MAILTO:info@southernhotelberry.com.au
END:VEVENT
BEGIN:VEVENT
DTSTART;TZID=Australia/Sydney:20260529T200000
DTEND;TZID=Australia/Sydney:20260529T220000
DTSTAMP:20260422T143801
CREATED:20260401T002023Z
LAST-MODIFIED:20260401T002023Z
UID:10000484-1780084800-1780092000@local.berry.org.au
SUMMARY:ZED APTON | Acoustic Fridays
DESCRIPTION:🍻☀️ Great Southern Knock Off Sessions ☀️🍻\nRinse your week off with epic live music every Friday at The Southern!\nStart your weekend right with live music\, cold drinks\, and the best vibes in town. Bring your friends\, bring your family\, Great Southern Sundays is for everyone – featuring incredible talent every Friday!\n———\n𝐃𝐀𝐓𝐄 🗓️ FRIDAY MAY 29\n𝐁𝐀𝐍𝐃 🎶 ZED APTON\n𝐓𝐈𝐌𝐄 ⏰ LIVE MUSIC FROM 8PM\n𝐅𝐑𝐄𝐄 𝐄𝐍𝐓𝐑𝐘 𝐄𝐕𝐄𝐑𝐘 𝐖𝐄𝐄𝐊!
URL:https://local.berry.org.au/event/zed-apton-acoustic-fridays/
LOCATION:Great Southern Hotel Berry\, 95 Queen St\, Berry\, NSW\, 2535
ATTACH;FMTTYPE=image/jpeg:https://local.berry.org.au/wp-content/uploads/2026/04/658125272_1520600403409526_408512104509450874_n-9.jpg
ORGANIZER;CN="Great Southern Hotel Berry":MAILTO:info@southernhotelberry.com.au
END:VEVENT
BEGIN:VEVENT
DTSTART;TZID=Australia/Sydney:20260530T190000
DTEND;TZID=Australia/Sydney:20260530T233000
DTSTAMP:20260422T143801
CREATED:20260401T004400Z
LAST-MODIFIED:20260401T004400Z
UID:10000485-1780167600-1780183800@local.berry.org.au
SUMMARY:KYE HAWKINS  | DJs Every Sat
DESCRIPTION:🪩 Welcome to Spin City Saturdays 🪩\nGet ready to slide onto the dance floor every Saturday night with the best local DJs slinging grooves until late. Whether you’re vibing to funky vinyl spins or high-energy house beats\, our DJs will keep the dance floor alive from 7pm ‘til late. It’s the perfect way to kick off your weekend – good tunes\, cold drinks\, and plenty of great company! 🍻\n🗓️ EVERY SATURDAY\n🎶 DJs from 7PM\n⚡️ FREE ENTRY\nBring your crew\, we’ll see you on the dance floor!
URL:https://local.berry.org.au/event/kye-hawkins-djs-every-sat-4/
LOCATION:Great Southern Hotel Berry\, 95 Queen St\, Berry\, NSW\, 2535
ATTACH;FMTTYPE=image/jpeg:https://local.berry.org.au/wp-content/uploads/2026/04/658138597_1520615916741308_7012457810575081580_n-8.jpg
ORGANIZER;CN="Great Southern Hotel Berry":MAILTO:info@southernhotelberry.com.au
END:VEVENT
END:VCALENDAR